BEGIN:VCALENDAR
VERSION:2.0
PRODID:-//wp-events-plugin.com//7.2.3.1//EN
BEGIN:VEVENT
UID:181@nsride.com
DTSTART;TZID=America/Vancouver:20260606T110000
DTEND;TZID=America/Vancouver:20260606T160000
DTSTAMP:20260112T235901Z
URL:https://www.nsride.com/events/2026-ssc/
SUMMARY:Weekend Ride - Sunshine Coast
DESCRIPTION:RIDE CAPTAIN: TBD\n\nMeet at 11:00 am. Be ready to ride at 11:1
 5 am.\nBe prepared with enough snacks and water for a 3 hour ride.\n\nJoi
 n us after the ride for food and beverages at Persephone Brewing Company 1
 053 Stewart Rd.\, Gibsons\, BC V0N 1V5.\n\nRSVP is mandatory for all rides
 .  RSVP is open at 6pm on Sunday\, May 31st\n\nPlease be prepared to show
  proof of membership ( digital card or confirmation email) if you are aske
 d.\n\nNo Shows are Super un-cool.  If you sign up\, please come.  If so
 mething comes up\, no worries\, but please change your status.\n\nCheck fo
 rum by 8 am for any ride cancellations in case of questionable weather.
CATEGORIES:Ride
LOCATION:SSC - B & K Powerlines\, Largo Road\, Roberts Creek\, BC\, Canada
X-APPLE-STRUCTURED-LOCATION;VALUE=URI;X-ADDRESS=Largo Road\, Roberts Creek\
 , BC\, Canada;X-APPLE-RADIUS=100;X-TITLE=SSC - B & K Powerlines:geo:0,0
END:VEVENT
BEGIN:VTIMEZONE
TZID:America/Vancouver
X-LIC-LOCATION:America/Vancouver
BEGIN:DAYLIGHT
DTSTART:20260308T030000
TZOFFSETFROM:-0800
TZOFFSETTO:-0700
TZNAME:PDT
END:DAYLIGHT
END:VTIMEZONE
END:VCALENDAR